{"text_format":"1","workbook":"xlsx","n_sheets":1,"sheets":["Planilha1"],"not_rendered":{"charts":0,"images":0,"macros":1,"external_links":0,"defined_names":0,"comments":0,"pivot_tables":0},"unopened":[],"bounds":{"document_bytes":16777216,"sheet_cells":100000,"rows_first":2000,"rows_last":500,"rows_between":2000,"halvings":0,"cell_chars":16384,"cell_head_chars":4096},"cells_cut":0,"cells_raw":0,"read":"whole","date_system":"1900"}

{"sheet":"Planilha1","index":0,"n_rows":22,"n_cols":6,"rows_kept":22,"cut":false,"hidden":false,"merged":[]}
[]
[]
[null,"Jogada","Jogador 1","Jogador 2","Fichas restantes","Próximo a jogar"]
[null,0,null,null,35,"Jogador 1"]
[null,1,2,null,33,{"$f":"IF(E5<1,\") jogador 2 perdeu!\",\"Jogador 2\")","v":"Jogador 2"}]
[null,2,null,null,{"$f":"IF(ISNUMBER(D6),IF(AND(D6<4,D6>0),E5-D6,\"Jogada não permitida\"),\"-\")","v":"-"},{"$f":"IF(AND(ISNUMBER(D6),D6<4,D6>0),IF(E6<1,\"O jogador 2 perdeu!\",\"Jogador 1\"),\"-\")","v":"-"}]
[null,3,{"$f":"IF(ISNUMBER(E6),4-D6,\"-\")","v":"-"},null,{"$f":"IF(ISNUMBER(C7),E6-(C7+D7),\"-\")","v":"-"},{"$f":"IF(ISNUMBER(C7),IF(E7<1,\"O jogador 2 perdeu!\",\"Jogador 2\"),\"-\")","v":"-"}]
[null,4,null,null,{"$f":"IF(ISNUMBER(D8),IF(D8>E7, \"Jogada não permitida\",IF(ISNUMBER(E7),IF(AND(D8<4,D8>0),E7-D8,\"Jogada não permitida\"),\"Completar jogadas anteriores\")),\"-\")","v":"-"},{"$f":"IF(AND(ISNUMBER(E8),D8<4,D8>0),IF(E8<1,\"O jogador 2 perdeu!\",\"Jogador 1\"),\"-\")","v":"-"}]
[null,5,{"$f":"IF(ISNUMBER(E8),4-D8,\"-\")","v":"-"},null,{"$f":"IF(ISNUMBER(C9),E8-(C9+D9),\"-\")","v":"-"},{"$f":"IF(ISNUMBER(C9),IF(E9<1,\"O jogador 2 perdeu!\",\"Jogador 2\"),\"-\")","v":"-"}]
[null,6,null,null,{"$f":"IF(ISNUMBER(D10),IF(D10>E9, \"Jogada não permitida\",IF(ISNUMBER(E9),IF(AND(D10<4,D10>0),E9-D10,\"Jogada não permitida\"),\"Completar jogadas anteriores\")),\"-\")","v":"-"},{"$f":"IF(AND(ISNUMBER(E10),D10<4,D10>0),IF(E10<1,\"O jogador 2 perdeu!\",\"Jogador 1\"),\"-\")","v":"-"}]
[null,7,{"$f":"IF(ISNUMBER(E10),4-D10,\"-\")","v":"-"},null,{"$f":"IF(ISNUMBER(C11),E10-(C11+D11),\"-\")","v":"-"},{"$f":"IF(ISNUMBER(C11),IF(E11<1,\"O jogador 2 perdeu!\",\"Jogador 2\"),\"-\")","v":"-"}]
[null,8,null,null,{"$f":"IF(ISNUMBER(D12),IF(D12>E11, \"Jogada não permitida\",IF(ISNUMBER(E11),IF(AND(D12<4,D12>0),E11-D12,\"Jogada não permitida\"),\"Completar jogadas anteriores\")),\"-\")","v":"-"},{"$f":"IF(AND(ISNUMBER(E12),D12<4,D12>0),IF(E12<1,\"O jogador 2 perdeu!\",\"Jogador 1\"),\"-\")","v":"-"}]
[null,9,{"$f":"IF(ISNUMBER(E12),4-D12,\"-\")","v":"-"},null,{"$f":"IF(ISNUMBER(C13),E12-(C13+D13),\"-\")","v":"-"},{"$f":"IF(ISNUMBER(C13),IF(E13<1,\"O jogador 2 perdeu!\",\"Jogador 2\"),\"-\")","v":"-"}]
[null,10,null,null,{"$f":"IF(ISNUMBER(D14),IF(D14>E13, \"Jogada não permitida\",IF(ISNUMBER(E13),IF(AND(D14<4,D14>0),E13-D14,\"Jogada não permitida\"),\"Completar jogadas anteriores\")),\"-\")","v":"-"},{"$f":"IF(AND(ISNUMBER(E14),D14<4,D14>0),IF(E14<1,\"O jogador 2 perdeu!\",\"Jogador 1\"),\"-\")","v":"-"}]
[null,11,{"$f":"IF(ISNUMBER(E14),4-D14,\"-\")","v":"-"},null,{"$f":"IF(ISNUMBER(C15),E14-(C15+D15),\"-\")","v":"-"},{"$f":"IF(ISNUMBER(C15),IF(E15<1,\"O jogador 2 perdeu!\",\"Jogador 2\"),\"-\")","v":"-"}]
[null,12,null,null,{"$f":"IF(ISNUMBER(D16),IF(D16>E15, \"Jogada não permitida\",IF(ISNUMBER(E15),IF(AND(D16<4,D16>0),E15-D16,\"Jogada não permitida\"),\"Completar jogadas anteriores\")),\"-\")","v":"-"},{"$f":"IF(AND(ISNUMBER(E16),D16<4,D16>0),IF(E16<1,\"O jogador 2 perdeu!\",\"Jogador 1\"),\"-\")","v":"-"}]
[null,13,{"$f":"IF(ISNUMBER(E16),4-D16,\"-\")","v":"-"},null,{"$f":"IF(ISNUMBER(C17),E16-(C17+D17),\"-\")","v":"-"},{"$f":"IF(ISNUMBER(C17),IF(E17<1,\"O jogador 2 perdeu!\",\"Jogador 2\"),\"-\")","v":"-"}]
[null,14,null,null,{"$f":"IF(ISNUMBER(D18),IF(D18>E17, \"Jogada não permitida\",IF(ISNUMBER(E17),IF(AND(D18<4,D18>0),E17-D18,\"Jogada não permitida\"),\"Completar jogadas anteriores\")),\"-\")","v":"-"},{"$f":"IF(AND(ISNUMBER(E18),D18<4,D18>0),IF(E18<1,\"O jogador 2 perdeu!\",\"Jogador 1\"),\"-\")","v":"-"}]
[null,15,{"$f":"IF(ISNUMBER(E18),4-D18,\"-\")","v":"-"},null,{"$f":"IF(ISNUMBER(C19),E18-(C19+D19),\"-\")","v":"-"},{"$f":"IF(ISNUMBER(C19),IF(E19<1,\"O jogador 2 perdeu!\",\"Jogador 2\"),\"-\")","v":"-"}]
[null,16,null,null,{"$f":"IF(ISNUMBER(D20),IF(D20>E19, \"Jogada não permitida\",IF(ISNUMBER(E19),IF(AND(D20<4,D20>0),E19-D20,\"Jogada não permitida\"),\"Completar jogadas anteriores\")),\"-\")","v":"-"},{"$f":"IF(AND(ISNUMBER(E20),D20<4,D20>0),IF(E20<1,\"O jogador 2 perdeu!\",\"Jogador 1\"),\"-\")","v":"-"}]
[null,17,{"$f":"IF(ISNUMBER(E20),4-D20,\"-\")","v":"-"},null,{"$f":"IF(ISNUMBER(C21),E20-(C21+D21),\"-\")","v":"-"},{"$f":"IF(ISNUMBER(C21),IF(E21<1,\"O jogador 2 perdeu!\",\"Jogador 2\"),\"-\")","v":"-"}]
[null,18,null,null,{"$f":"IF(ISNUMBER(D22),IF(D22>E21, \"Jogada não permitida\",IF(ISNUMBER(E21),IF(AND(D22<4,D22>0),E21-D22,\"Jogada não permitida\"),\"Completar jogadas anteriores\")),\"-\")","v":"-"},{"$f":"IF(AND(ISNUMBER(E22),D22<4,D22>0),IF(E22<1,\"Acabou, o jogador 2 perdeu!\",\"Jogador 1\"),\"-\")","v":"-"}]